BEGIN:VCALENDAR
VERSION:2.0
PRODID:-//L&#039;ECHIQUIER SOCIAL - ECPv6.15.20//NONSGML v1.0//EN
CALSCALE:GREGORIAN
METHOD:PUBLISH
X-ORIGINAL-URL:https://www.lechiquiersocial.com
X-WR-CALDESC:Évènements pour L&#039;ECHIQUIER SOCIAL
REFRESH-INTERVAL;VALUE=DURATION:PT1H
X-Robots-Tag:noindex
X-PUBLISHED-TTL:PT1H
BEGIN:VTIMEZONE
TZID:Europe/Paris
BEGIN:DAYLIGHT
TZOFFSETFROM:+0100
TZOFFSETTO:+0200
TZNAME:CEST
DTSTART:20240331T010000
END:DAYLIGHT
BEGIN:STANDARD
TZOFFSETFROM:+0200
TZOFFSETTO:+0100
TZNAME:CET
DTSTART:20241027T010000
END:STANDARD
BEGIN:DAYLIGHT
TZOFFSETFROM:+0100
TZOFFSETTO:+0200
TZNAME:CEST
DTSTART:20250330T010000
END:DAYLIGHT
BEGIN:STANDARD
TZOFFSETFROM:+0200
TZOFFSETTO:+0100
TZNAME:CET
DTSTART:20251026T010000
END:STANDARD
BEGIN:DAYLIGHT
TZOFFSETFROM:+0100
TZOFFSETTO:+0200
TZNAME:CEST
DTSTART:20260329T010000
END:DAYLIGHT
BEGIN:STANDARD
TZOFFSETFROM:+0200
TZOFFSETTO:+0100
TZNAME:CET
DTSTART:20261025T010000
END:STANDARD
END:VTIMEZONE
BEGIN:VEVENT
DTSTART;VALUE=DATE:20250406
DTEND;VALUE=DATE:20250409
DTSTAMP:20260421T233930
CREATED:20250331T170935Z
LAST-MODIFIED:20250331T170935Z
UID:10000103-1743897600-1744156799@www.lechiquiersocial.com
SUMMARY:Emmanuel Macron en visite d'État en Égypte
DESCRIPTION:Le président français\, Emmanuel Macron\, se rend en Egypte les 7 et 8 avril 2025. Comme annoncé par le président français le 20 mars\, cette visite d’État sera l’occasion d’échanger sur le plan arabe visant à reconstruire la bande de Gaza.\n  \n \nEmmanuel Macron a annoncé jeudi 20 mars à Bruxelles qu’il effectuerait une visite d’État en Égypte les 7 et 8 avril. Cette rencontre sera l’occasion d’échanger sur le plan arabe visant à reconstruire la bande de Gaza\, dévastée par plus d’un an de guerre entre Israël et le Hamas. \n“Je me rendrai en Égypte pour une visite d’État le 7 et 8 avril prochain où j’aurai une session dédiée à ce sujet“\, avait déclaré à la presse le président français à l’issue du sommet européen. “Nous défendons un cessez-le-feu qui est indispensable“ à Gaza après la reprise des frappes israéliennes\, “la libération de tous les otages par le Hamas qui est une nécessité et une solution politique à deux États“\, palestinien et israélien\, a expliqué le chef de l’État. “Le plan pour Gaza qui a été fait par les États arabes est un élément que nous soutenons“\, a assuré Emmanuel Macron \nhttps://twitter.com/flolabbe/status/1906744556525080738 \nReconstruire Gaza\nLes Etats membres de la Ligue arabe ont approuvé le mardi  5 mars\, le plan du Caire pour le redressement et la reconstruction de la bande de Gaza\, prévoyant un maintien de la population palestinienne dans l’enclave. L’initiative arabe\, que défend le chef d’État français\, prévoit un cessez-le-feu\, la reconstruction de la bande de Gaza\, sans déplacer ses 2\,4 millions d’habitants. la libération de tous les otages et une solution politique à deux États\, palestinien et israélien. Elle se veut une réponse au plan du président américain Donald Trump qui prévoit de prendre le contrôle du territoire palestinien et d’en expulser ses habitants. \nhttps://twitter.com/France24_fr/status/1897220735333962120
URL:https://www.lechiquiersocial.com/event/emmanuel-macron-en-visite-detat-en-egypte/
LOCATION:Le Caire\, Egypt
END:VEVENT
END:VCALENDAR