BEGIN:VCALENDAR
VERSION:2.0
PRODID:-//L&#039;ECHIQUIER SOCIAL - ECPv6.15.20//NONSGML v1.0//EN
CALSCALE:GREGORIAN
METHOD:PUBLISH
X-WR-CALNAME:L&#039;ECHIQUIER SOCIAL
X-ORIGINAL-URL:https://www.lechiquiersocial.com
X-WR-CALDESC:Évènements pour L&#039;ECHIQUIER SOCIAL
REFRESH-INTERVAL;VALUE=DURATION:PT1H
X-Robots-Tag:noindex
X-PUBLISHED-TTL:PT1H
BEGIN:VTIMEZONE
TZID:Europe/Paris
BEGIN:DAYLIGHT
TZOFFSETFROM:+0100
TZOFFSETTO:+0200
TZNAME:CEST
DTSTART:20240331T010000
END:DAYLIGHT
BEGIN:STANDARD
TZOFFSETFROM:+0200
TZOFFSETTO:+0100
TZNAME:CET
DTSTART:20241027T010000
END:STANDARD
BEGIN:DAYLIGHT
TZOFFSETFROM:+0100
TZOFFSETTO:+0200
TZNAME:CEST
DTSTART:20250330T010000
END:DAYLIGHT
BEGIN:STANDARD
TZOFFSETFROM:+0200
TZOFFSETTO:+0100
TZNAME:CET
DTSTART:20251026T010000
END:STANDARD
BEGIN:DAYLIGHT
TZOFFSETFROM:+0100
TZOFFSETTO:+0200
TZNAME:CEST
DTSTART:20260329T010000
END:DAYLIGHT
BEGIN:STANDARD
TZOFFSETFROM:+0200
TZOFFSETTO:+0100
TZNAME:CET
DTSTART:20261025T010000
END:STANDARD
END:VTIMEZONE
BEGIN:VEVENT
DTSTART;VALUE=DATE:20251208
DTEND;VALUE=DATE:20251209
DTSTAMP:20260423T095809
CREATED:20251207T182730Z
LAST-MODIFIED:20251207T182730Z
UID:10000205-1765152000-1765238399@www.lechiquiersocial.com
SUMMARY:Ukraine : Emmanuel Macron à Londres\, pour une réunion avec Zelensky\, Starmer et Merz
DESCRIPTION:Le président Emmanuel Macron se rend à Londres ce lundi 8 décembre\, pour rencontrer  son homologue ukrainien\, le Premier ministre britannique et le chancelier allemand. Une nouvelle rencontre des alliés de Kiev\, pour “faire le point sur la situation et les négociations en cours“.\n \nLes Européens continuent de faire bloc autour de Kiev. Une semaine après avoir reçu à l’Élysée Volodymyr Zelensky\, le chef de l’État sera à Londres ce lundi pour rencontrer son homologue ukrainien\, aux côtés du Premier ministre britannique Keir Starmer et du chancelier allemand Friedrich Merz. Cette rencontre permettra de “faire le point ensemble sur la situation et les négociations en cours dans le cadre de la médiation américaine“\, a écrit samedi le président français sur son compte X. \n“Nous devons continuer à faire pression sur la Russie pour la contraindre à la paix“\, a également écrit Emmanuel Macron\, ajoutant que “l’Ukraine peut compter sur notre soutien indéfectible“. “C’est tout le sens des efforts que nous avons engagés dans le cadre de la coalition des volontaires. Nous les poursuivrons avec les Américains pour doter l’Ukraine de garanties de sécurité sans lesquelles il n’y aura pas de paix robuste et durable“\, poursuit-il. \nhttps://twitter.com/EmmanuelMacron/status/1997322158389723248 \nDes pourparlers restés secrets\nCette annonce est intervenue alors que les pourparlers de paix pour mettre fin au conflit russo-ukrainien se sont poursuivis ce week-end entre Kiev et Washington. Négociateurs ukrainiens et américains se sont retrouvés ce samedi en Floride pour leur troisième jour de discussions autour du plan proposé par les États-Unis. \n\nDepuis la présentation du plan américain il y a bientôt trois semaines\, plusieurs sessions de pourparlers ont eu lieu avec les Ukrainiens à Genève et en Floride pour tenter d’amender le texte en faveur de Kiev. Le document a aussi été présenté mardi 2 décembre au président Vladimir Poutine lors d’une visite à Moscou de Steve Witkoff et Jared Kushner. Peu de détails ont filtré sur ce plan amendé\, après qu’une version initiale avait été perçue par Kiev et les Européens comme étant largement favorable à la Russie. \n\nOn ne dispose pas d’informations détaillées sur le contenu des échanges en Floride entre les émissaires américains Steve Witkoff et Jared Kushner et les négociateurs de Kiev. Volodymyr Zelensky a cependant annoncé samedi soir qu’il avait eu une conversation téléphonique “substantielle et constructive“ avec les deux parties. “L’Ukraine est déterminée à continuer de travailler honnêtement avec la partie américaine pour instaurer une paix réelle. Nous sommes convenus de prochaines étapes et du format des discussions avec les Etats-Unis“\, a déclaré le président ukrainien sur les réseaux sociaux. Le chef d’Etat ukrainien a ajouté avoir “convenu de prochaines étapes“ et du “format des discussions“ avec les Etats-Unis\, sans dire si les échanges en Floride étaient achevés ou non. \nhttps://twitter.com/ZelenskyyUa/status/1997343470013292591 \nL’UE tenue à l’écart des négociations\nDepuis la présentation du plan américain\, l’Union européenne (UE) tente de peser sur un texte dont la première version avait été perçue comme très favorables aux intérêts russes. Grande absente de ces négociations auxquelles elle n’a pas été conviée\, l’UE a une nouvelle fois mis en garde samedi contre un processus perçu à Bruxelles comme favorable à Vladimir Poutine. “Imposer des restrictions et des contraintes à l’Ukraine ne nous apportera pas une paix durable“\, a répété samedi la cheffe de la diplomatie européenne\, Kaja Kallas. “L’Europe a sous-estimé sa propre puissance\, notamment face à la Russie. Nous devrions avoir davantage confiance en nous. Les États-Unis demeurent notre principal allié. Et il est dans l’intérêt des États-Unis que nous collaborions“\, a t-elle affirmé le 6 décembre\, lors d’une intervention au Forum de Doha 2025. \nhttps://twitter.com/kajakallas/status/1997254108139700724 \n 
URL:https://www.lechiquiersocial.com/event/ukraine-emmanuel-macron-a-londres-pour-rencontrer-zelensky-starmer-et-merz/
LOCATION:Londres\, United Kingdom
END:VEVENT
BEGIN:VEVENT
DTSTART;VALUE=DATE:20250302
DTEND;VALUE=DATE:20250303
DTSTAMP:20260423T095809
CREATED:20250228T162553Z
LAST-MODIFIED:20250301T183138Z
UID:10000077-1740873600-1740959999@www.lechiquiersocial.com
SUMMARY:Sommet sur l'Ukraine à Londres
DESCRIPTION:Le Premier ministre britannique Keir Starmer a invité une quinzaine de dirigeants européens à un sommet\, dimanche 2 mars\, à Londres\, pour “faire avancer“ leurs actions concernant l’Ukraine et la sécurité. Une réunion décisive après la violence de la rencontre Trump-Zelensky\, vendredi\, à la Maison Blanche.\n \nKeir Starmer accueille ce dimanche à Londres une quinzaine de dirigeants européens\, lors d’un sommet consacré à l’Ukraine et la sécurité. Après une réunion téléphonique dans la matinée avec les pays baltes\, le chef du gouvernement britannique rencontrera le président ukrainien Volodymyr Zelensky à Downing Street. Puis il réunira dans l’après-midi\, des dirigeants de plusieurs pays européens. \nQuels participants ?\nLe sommet réunira les dirigeants de plusieurs pays européens\, dont la France\, l’Allemagne\, le Danemark\, l’Italie\, la Turquie\, l’Italie… M. Starmer s’entretiendra en tête-à-tête avec la Première ministre italienne\, Giorgia Meloni\, à Downing Street\, avant le début de la rencontre. Le secrétaire général de l’Otan\, Mark Rutte\, ainsi que la présidente de la Commission européenne Ursula von der Leyen et le président du Conseil européen Antonio Costa\, seront aussi présents. Après s’être entretenu jeudi avec le président américain Donald Trump à la Maison Blanche\, M. Starmer a également invité les dirigeants des Pays-Bas\, de la Norvège\, de la Pologne\, de l’Espagne\, de la Finlande\, de la Suède\, de la République tchèque et de la Roumanie à participer au sommet. \nSoutien à l’Ukraine et sécurité européenne\n“Faire avancer l’action européenne sur l’Ukraine“\n“Le premier ministre profitera du sommet pour faire avancer l’action européenne sur l’Ukraine\, en montrant notre soutien collectif indéfectible à l’obtention d’une paix juste et durable\, et d’un accord durable\, qui garantisse la souveraineté et la sécurité futures de l’Ukraine“\, a indiqué son bureau. Au cours de cette réunion\, les dirigeants européens se  concentreront sur “le renforcement de la position actuelle de l’Ukraine – y compris le maintien du soutien militaire et l’augmentation de la pression économique sur la Russie“\, a rapporté l’AFP. Les participants au sommet de Londres souligneront à nouveau la nécessité d’un “accord solide et durable qui apporte une paix permanente“ et discuteront des prochaines étapes de la planification de garanties de sécurité solides\, avait pour sa part indiqué le bureau de Keir Starmer. \nA l’origine\, la réunion devait être l’occasion pour Keir Starmer et le président français Emmanuel Macron de faire le point avec leurs alliés européens sur leurs rencontres à Washington\, avec le président américain Donald Trump. Le sommet de Londres devait également permettre de poursuivre les travaux préparatoires à la force de maintien de la paix européenne que Londres et Paris proposent de déployer en Ukraine\, dans le cadre d’un véritable accord de paix\, et ce avant le conseil européen exceptionnel consacré à l’Ukraine\, qui se tiendra le 6 mars\, comme l’a annoncé son président\, Antonio Costa. \nhttps://twitter.com/eucopresident/status/1895013545668157921 \nEt Maintenant ?\n\nMais la rencontre entre Donald Trump et Volodymyr Zelensky\, vendredi 28 février\, a totalement rebattu les cartes. En vingt-quatre heures\, les Européens se retrouvent encore plus isolés qu’ils ne l’étaient deux semaines plus tôt\, à l’ouverture de la Conférence de Munich sur la sécurité\, le 14 février. La violente altercation à la Maison Blanche\, entre le président américain\, son homologue ukrainien et J. D. Vance\, le vice-président des États-unis\, illustre toute l’hostilité de la nouvelle administration américaine à l’égard de l’Ukraine. Elle signe un point de rupture dans la relation entre les alliés. Elle a en outre permis au président russe\, Vladimir Poutine\, d’enregistrer un remarquable succès dans sa guerre contre l’Ukraine\, et ce\, sans tirer le moindre missile\, et sans même à avoir à prononcer le moindre mot. La joute verbale violente qui s’est tenue dans le bureau ovale vendredi\, contraints les européens à accélérer leur calendrier\, face au risque de lâchage des Etats-Unis. \nface au risque de lâchage des Etats-Unis. \n\n🇺🇦 🇺🇸  🗣 ⚠️ Dans une scène spectaculaire\, Trump et son homologue ukrainien\, Volodymyr Zelensky\, ont eu vendredi un échange extrêmement tendu\, le premier appelant le second à conclure un accord “ou nous vous laissons tomber“.  🗣“Vous jouez avec la vie de millions de personnes.… pic.twitter.com/K6xyE1xCKp \n— L'Echiquier social (@EchiquierSocial) February 28\, 2025 \n \nComment dans ces conditions continuer à soutenir Kiev et\, au-delà\, assurer la sécurité de l’Europe face à une Russie confortée par une administration Trump prête à toutes les concessions pour signer au plus vite la cessation des hostilités ? C’est à ces questions existentielles que devraient s’efforcer de répondre les Européens lors du sommet. Après les échanges musclés entre Donald Trump et Volodymyr Zelensky\, dans le bureau ovale\, l’espoir d’un backstop pourrait devenir illusoire. Comment en effet pour les Européens\, imposer cet appui sécuritaire américain pour dissuader Vladimir Poutine de violer un futur accord ? La question sera davantage de savoir si Keir Starmer maintient sa proposition d’envoyer des soldats britanniques en Ukraine\, au risque de confrontations directes avec les Russes\, sans l’appui des Américains. Et si d’autres Etats européens – la France au premier chef – sont prêts à le suivre. \n\nGuerre en Ukraine : après l’altercation entre Trump et Zelensky\, les Européens contraints d’accélérer leur calendrier face au risque de lâchage des Etats-Unis \n— Le Monde (@lemonde.fr) 2025-03-01T04:11:11.118086+00:00 \n \nUn nouveau visage pourrait toutefois constituer un appui de taille lors des prochaines étapes. Le probable futur chancelier allemand\, Friedrich Merz\, qui a dîné à l’Elysée avec Emmanuel Macron mercredi soir. Dimanche dernier\, il a surpris la scène européenne en donnant\, à la télévision dans la foulée de sa victoire aux législatives\, un discours aux accents gaullistes. “Les ingérences de Washington ont été aussi scandaleuses et éhontées que celles de Moscou“\, a-t-il déclaré\, promettant de travailler avec les dirigeants européens pour “obtenir une véritable indépendance vis-à-vis des Etats-Unis. \nhttps://twitter.com/lopinion_fr/status/1895168275518017729
URL:https://www.lechiquiersocial.com/event/sommet-sur-lukraine-a-londres/
LOCATION:Londres\, United Kingdom
END:VEVENT
END:VCALENDAR